Workbook

Sheet Instructions
B1: Welcome to the Winning Digital Customers customer segmentation spreadsheet. Please see the instructions below for help getting started.
A2: Step 1: | B2: On the "Calculations" tab, in cell H6, enter the total number of research subjects you intend to have.
A3: Step 2: | B3: On the "Calculations" tab, edit Columns B and C of the existing tables as you see fit for your desired dimensions and characteristics. Start by entering your chosen customer dimensions in Column B, then the characteristics for each dimension in Column C. To create additional characteristics/dimensions, copy and paste the extra rows/tables for as many extra characteristics/dimensions as you need, and then make sure the newly-created formulas are set for the right cells (This part may require some Excel knowledge, so if you're inexperienced, stick to the tables and rows we've provided). Then, create a column on the "Recruits" tab for each new characteristic.
A4: Step 3: | B4: On the "Recruits" tab (which will automatically synch with your updates from Step 2), enter your list of recruits and their individual characteristics as you recruit them.
A5: Step 4: | B5: If you've edited or added any dimensions or characteristics, make sure that each "CountIf" function in Column F of the "Calulations" tab is 1. still searching from the desired dimension column on the "Recruits" tab (For the "Geography" dimension, you would want to the formula to be counting across Column F ("Recruits!F:F, F17")) and 2. searching for the characteristic corresponding to the given row (For the "Urban" characteristic in row 17 in the "Geography" dimension, you'd want the formula to be searching for for the contents of cell C17 ("Recruits!F:F, C17")).
A6: Step 5: | B6: In Column D on the "Calculations" tab, for each dimension, enter percentages for each characteristic to indicate what proportion of your total research subjects you want to possess each characteristic.
A7: Step 6: | B7: Now, the spreadsheet will calculate the rest for you, and you can use it to see whether you've satisfied your segmentation requirements. "Desired #" in Column E on the "Calculations" tab will calculate the exact number of research subjects you need fitting a certain characteristic. Then, "Actual #" in column F will calculate how many subjects you have fitting the given characteristic. If the number is below your target, this cell in Column F will turn red. If it is equal to or above your target, it will turn green. Once all cells in Column F are green, you have satisfied all your requirements for the dimensions and characteristics of your research subjects.

Sheet Calculations
A1: Step 1: | F1: Inclusion Criteria
A2: Target Subjects | B2: 40 | F2: Uses the internet daily
F3: Lives in the US
A5: Step 2: | B5: Dimensions | D5: Step 5: | G5: Step 4:
B6: Gender | C6: Characteristics | D6: Desired % | E6: Desired # | F6: Actual % | G6: Actual # | H6: Step 6:
C7: Male | D7: 0.5 | E7: =B2*D7 -> 20 | F7: =G7/(G7+G8) -> 0.5 | G7: =COUNTIF(Recruits!D:D, C7) -> 20
C8: Female | D8: 0.5 | E8: =B2*D8 -> 20 | F8: =G8/(G7+G8) -> 0.5 | G8: =COUNTIF(Recruits!D:D, C8) -> 20
B10: Age | C10: Characteristics | D10: Desired % | E10: Desired # | F10: Actual % | G10: Actual #
C11: 20-30 | D11: 0.35 | E11: =D11*B2 -> 14 | F11: =G11/(G11+G13+G12) -> 0.35 | G11: =COUNTIF(Recruits!E:E, C11) -> 14
C12: 31-40 | D12: 0.35 | E12: =D12*B2 -> 14 | F12: =G12/(G11+G12+G13) -> 0.35 | G12: =COUNTIF(Recruits!E:E, C12) -> 14
C13: 41-50 | D13: 0.3 | E13: =D13*B2 -> 12 | F13: =G13/(G13+G12+G11) -> 0.3 | G13: =COUNTIF(Recruits!E:E, C13) -> 12
B15: Geography | C15: Characteristics | D15: Desired % | E15: Desired # | F15: Actual % | G15: Actual #
C16: Suburban | D16: 0.45 | E16: =D16*B2 -> 18 | F16: =G16/(G16+G17+G18) -> 0.45 | G16: =COUNTIF(Recruits!F:F, C16) -> 18
C17: Urban | D17: 0.45 | E17: =D17*B2 -> 18 | F17: =G17/(G16+G17+G18) -> 0.45 | G17: =COUNTIF(Recruits!F:F, C17) -> 18
C18: Rural | D18: 0.1 | E18: =D18*B2 -> 4 | F18: =G18/(G18+G17+G16) -> 0.1 | G18: =COUNTIF(Recruits!F:F, C18) -> 4
B20: Dimension D | C20: Characteristics | D20: Desired % | E20: Desired # | F20: Actual % | G20: Actual #
C21: Characteristic D1 | D21: 0.45 | E21: =D21*B2 -> 18 | F21: =G21/(G21+G22+G23) -> 0.45 | G21: =COUNTIF(Recruits!G:G, C21) -> 18
C22: Characteristic D2 | D22: 0.45 | E22: =D22*B2 -> 18 | F22: =G22/(G21+G22+G23) -> 0.45 | G22: =COUNTIF(Recruits!G:G, C22) -> 18
C23: Characteristic D3 | D23: 0.1 | E23: =D23*B2 -> 4 | F23: =G23/(G21+G22+G23) -> 0.1 | G23: =COUNTIF(Recruits!G:G, C23) -> 4
B25: Dimension E | C25: Characteristics | D25: Desired % | E25: Desired # | F25: Actual % | G25: Actual #
C26: Characteristic E1 | D26: 0.5 | E26: =D26*B2 -> 20 | F26: =G26/(G26+G27) -> 0.5 | G26: =COUNTIF(Recruits!H:H, C26) -> 20
C27: Characteristic E2 | D27: 0.5 | E27: =D27*B2 -> 20 | F27: =G27/(G26+G27) -> 0.5 | G27: =COUNTIF(Recruits!H:H, C27) -> 20
B29: Dimension F | C29: Characteristics | D29: Desired % | E29: Desired # | F29: Actual % | G29: Actual #
C30: Characteristic F1 | D30: 0.3 | E30: =D30*B2 -> 12 | F30: =G30/(G30+G31) -> 0.5 | G30: =COUNTIF(Recruits!I:I, C30) -> 12
C31: Characteristic F2 | D31: 0.3 | E31: =D31*B2 -> 12 | F31: =G31/(G31+G30) -> 0.5 | G31: =COUNTIF(Recruits!I:I, C31) -> 12
C32: Characteristic F3 | D32: 0.2 | E32: =D32*B2 -> 8 | F32: =G32/(G32+G31) -> 0.4 | G32: =COUNTIF(Recruits!I:I, C32) -> 8
C33: Characteristic F4 | D33: 0.2 | E33: =D33*B2 -> 8 | F33: =G33/(G33+G32) -> 0.5 | G33: =COUNTIF(Recruits!I:I, C33) -> 8

Sheet Recruits
A1: Step 3: | B1: First Name | C1: Last Name | D1: =Calculations!B6 -> Gender | E1: =Calculations!B10 -> Age | F1: =Calculations!B15 -> Geography | G1: =Calculations!B20 -> Dimension D | H1: =Calculations!B25 -> Dimension E | I1: =Calculations!B29 -> Dimension F | J1: Date/Time Scheduled
B2: Bob | C2: Smith | D2: Male | E2: 20-30 | F2: Urban | G2: Characteristic D1 | H2: Characteristic E1 | I2: Characteristic F1
D3: Male | E3: 20-30 | F3: Urban | G3: Characteristic D1 | H3: Characteristic E1 | I3: Characteristic F1
D4: Female | E4: 20-30 | F4: Urban | G4: Characteristic D1 | H4: Characteristic E1 | I4: Characteristic F1
D5: Female | E5: 20-30 | F5: Urban | G5: Characteristic D1 | H5: Characteristic E1 | I5: Characteristic F1
D6: Female | E6: 20-30 | F6: Urban | G6: Characteristic D1 | H6: Characteristic E1 | I6: Characteristic F1
D7: Female | E7: 20-30 | F7: Urban | G7: Characteristic D1 | H7: Characteristic E1 | I7: Characteristic F1
D8: Female | E8: 20-30 | F8: Urban | G8: Characteristic D1 | H8: Characteristic E1 | I8: Characteristic F1
D9: Female | E9: 20-30 | F9: Urban | G9: Characteristic D1 | H9: Characteristic E1 | I9: Characteristic F1
D10: Female | E10: 20-30 | F10: Urban | G10: Characteristic D1 | H10: Characteristic E1 | I10: Characteristic F1
D11: Female | E11: 20-30 | F11: Urban | G11: Characteristic D1 | H11: Characteristic E1 | I11: Characteristic F1
D12: Female | E12: 20-30 | F12: Urban | G12: Characteristic D1 | H12: Characteristic E1 | I12: Characteristic F1
D13: Female | E13: 20-30 | F13: Urban | G13: Characteristic D1 | H13: Characteristic E1 | I13: Characteristic F1
D14: Female | E14: 20-30 | F14: Urban | G14: Characteristic D1 | H14: Characteristic E1 | I14: Characteristic F2
... D41: Female | E41: 41-50 | F41: Suburban | G41: Characteristic D3 | H41: Characteristic E2 | I41: Characteristic F4
